BEGIN:VCALENDAR
VERSION:2.0
PRODID:-//ChamberMaster//Event Calendar 2.0//EN
METHOD:PUBLISH
X-PUBLISHED-TTL:P3D
REFRESH-INTERVAL:P3D
CALSCALE:GREGORIAN
BEGIN:VEVENT
DTSTART:20260521T203000Z
DTEND:20260521T213000Z
X-MICROSOFT-CDO-ALLDAYEVENT:FALSE
SUMMARY:Ribbon Cutting for Waterside Social
DESCRIPTION:Ribbon Cutting for Waterside Social \n\nThursday\, May 21st 4:30 PM -5:30 PM\n\n256 S. Broadway Street \n\nLake Orion\, MI 48362\n\nPublic Welcome - Free\n\n(248) 690-7021
X-ALT-DESC;FMTTYPE=text/html:Ribbon Cutting for Waterside Social&nbsp\;<br />\n<span style="color: rgb(51\, 51\, 51)\; font-family: sans-serif\, Arial\, Verdana\, &quot\;Trebuchet MS&quot\;\; font-size: 13px\; background-color: rgb(255\, 255\, 255)\;">Thursday\, May 21st 4:30 PM -5:30 PM</span><br />\n256 S. Broadway Street&nbsp\;<br />\nLake Orion\, MI 48362<br />\nPublic Welcome - Free<br />\n(248) 690-7021
LOCATION:Waterside Social Thursday\, May 21st 4:30 PM -5:30 PM 256 S. Broadway Street Lake Orion\, MI 48362 Public Welcome - Free
UID:e.2802.15365
SEQUENCE:3
DTSTAMP:20260420T072048Z
URL:http://www.orionareachamber.com/events/details/ribbon-cutting-for-waterside-social-15365
END:VEVENT

END:VCALENDAR
