BEGIN:VCALENDAR
VERSION:2.0
PRODID:-//ChamberMaster//Event Calendar 2.0//EN
METHOD:PUBLISH
X-PUBLISHED-TTL:P3D
REFRESH-INTERVAL:P3D
CALSCALE:GREGORIAN
BEGIN:VEVENT
DTSTART:20251104T130000Z
DTEND:20251104T140000Z
X-MICROSOFT-CDO-ALLDAYEVENT:FALSE
SUMMARY:Bagels & Brew Morning Mixer - November 2025
DESCRIPTION:Join us for at our monthly morning networking event! Pre-register and get on the "Hot Sheet"! \n\n\n\n(The "Hot Sheet" is a listing with your name and business information distributed to all attendees. Only those who are pre-registered will be on the "Hot Sheet"!)\n\n \nWhat to expect at the Bagels & Brew...Morning Mixer:\n\n \n\n - Each participant will have a chance for a 30 second introduction \n\n - A friendly group of professionals that love to network and are serious about relationship building \n\n - Complimentary Coffee and Bagels\n\n - Raffle Prizes
X-ALT-DESC;FMTTYPE=text/html:Join us for at our monthly morning networking event! Pre-register and get on the &quot\;Hot Sheet&quot\;!&nbsp\;<br />\n<br />\n(The &quot\;Hot Sheet&quot\; is a listing with your name and business information distributed to all attendees. Only those who are pre-registered will be on the &quot\;Hot Sheet&quot\;!)<br />\n&nbsp\;\n<p style="margin:0in"><span style="font-family: Arial\, sans-serif\;">What to expect at the&nbsp\;Bagels &amp\; Brew...Morning Mixer:</span><o:p></o:p></p>\n\n<p style="margin:0in"><o:p>&nbsp\;</o:p></p>\n\n<p style="margin:0in"><span style="font-family: Arial\, sans-serif\;">&nbsp\;- Each participant will have a chance for a 30 second introduction&nbsp\;</span><o:p></o:p></p>\n\n<p style="margin:0in"><span style="font-family: Arial\, sans-serif\;">&nbsp\;- A friendly group of professionals that love to network and are serious about relationship building&nbsp\;</span><o:p></o:p></p>\n\n<p style="margin:0in"><span style="font-family: Arial\, sans-serif\;">&nbsp\;- Complimentary Coffee and Bagels</span><o:p></o:p></p>\n\n<p style="margin:0in"><span style="font-family: Arial\, sans-serif\;">&nbsp\;- Raffle Prizes&nbsp\;</span></p>\n<br />\n<br />\n&nbsp\;
LOCATION:Golling Buick GMC 1491 S. Lapeer Road Lake Orion\, MI 48360
UID:e.2802.15290
SEQUENCE:3
DTSTAMP:20260424T113528Z
URL:https://www.orionareachamber.com/events/details/bagels-brew-morning-mixer-november-2025-15290
END:VEVENT

END:VCALENDAR
