BEGIN:VCALENDAR
VERSION:2.0
PRODID:-//ChamberMaster//Event Calendar 2.0//EN
METHOD:PUBLISH
X-PUBLISHED-TTL:P3D
REFRESH-INTERVAL:P3D
CALSCALE:GREGORIAN
BEGIN:VEVENT
DTSTART:20260430T220000Z
DTEND:20260501T000000Z
X-MICROSOFT-CDO-ALLDAYEVENT:FALSE
SUMMARY:Girl Dinner\, Elevated — the Michigan Way
DESCRIPTION:Girl Dinner\, Elevated   the Michigan Way\n\nJoin Michigan by the Bottle   Lake Orion for a fun\, elevated take on the viral Girl Dinner trend reimagined as a three-course experience with optional Michigan wine pairings.\n\nIn partnership with Wooden Whisk Creations\, this special pop-up brings together bold flavors\, creative dishes\, and a relaxed\, social atmosphere perfect for a night out.\n\nthree courses. three pours.\n\nEnjoy a thoughtfully curated menu featuring truffle + brie kettle chips\, cherry walnut caesar salad\, and spicy "vodka" pasta\, with an optional cherry blondie sundae dessert. Each course is designed to pair beautifully with wines from across Michigan.\n\nMichigan by the Bottle   Lake Orion\n\nApril 30 | 6 8 PM\n\n$28 per person\n\nAdd wine pairings for +$12\n\nCome early\, grab a seat\, and settle in for a unique evening of food\, wine\, and good company.
X-ALT-DESC;FMTTYPE=text/html:<p><span style="color:rgb(0\, 0\, 0)"><strong>Girl Dinner\, Elevated &mdash\; the Michigan Way</strong></span></p>\n\n<p><span style="color:rgb(0\, 0\, 0)"><span style="font-family:times new roman\,serif\; font-size:12pt">Join Michigan by the Bottle &ndash\; Lake Orion for a fun\, elevated take on the viral </span><em>Girl Dinner</em><span style="font-family:times new roman\,serif\; font-size:12pt"> trend&mdash\;reimagined as a three-course experience with optional Michigan wine pairings.</span></span></p>\n\n<p><span style="color:rgb(0\, 0\, 0)"><span style="font-family:times new roman\,serif\; font-size:12pt">In partnership with Wooden Whisk Creations\, this special pop-up brings together bold flavors\, creative dishes\, and a relaxed\, social atmosphere perfect for a night out.</span></span></p>\n\n<p><span style="color:rgb(0\, 0\, 0)"><strong>three courses. three pours.</strong></span></p>\n\n<p><span style="color:rgb(0\, 0\, 0)"><span style="font-family:times new roman\,serif\; font-size:12pt">Enjoy a thoughtfully curated menu featuring truffle + brie kettle chips\, cherry walnut caesar salad\, and spicy &ldquo\;vodka&rdquo\; pasta\, with an optional cherry blondie sundae dessert. Each course is designed to pair beautifully with wines from across Michigan.</span></span></p>\n\n<p><span style="color:rgb(0\, 0\, 0)"><span style="font-family:times new roman\,serif\; font-size:12pt">Michigan by the Bottle &ndash\; Lake Orion</span><br />\n<span style="font-family:times new roman\,serif\; font-size:12pt">April 30 | 6&ndash\;8 PM</span><br />\n<span style="font-family:times new roman\,serif\; font-size:12pt">$28 per person</span><br />\n<span style="font-family:times new roman\,serif\; font-size:12pt">Add wine pairings for +$12</span></span></p>\n\n<p><span style="color:rgb(0\, 0\, 0)"><span style="font-family:times new roman\,serif\; font-size:12pt">Come early\, grab a seat\, and settle in for a unique evening of food\, wine\, and good company. </span></span></p>\n
LOCATION:Michigan by the Bottle Lake Orion
UID:e.2802.15376
SEQUENCE:3
DTSTAMP:20260420T204903Z
URL:https://www.orionareachamber.com/events/details/girl-dinner-elevated-the-michigan-way-15376
END:VEVENT

END:VCALENDAR
