BEGIN:VCALENDAR
VERSION:2.0
PRODID:-//ChamberMaster//Event Calendar 2.0//EN
METHOD:PUBLISH
X-PUBLISHED-TTL:P3D
REFRESH-INTERVAL:P3D
CALSCALE:GREGORIAN
BEGIN:VEVENT
DTSTART:20251214T170000Z
DTEND:20251214T190000Z
X-MICROSOFT-CDO-ALLDAYEVENT:FALSE
SUMMARY:Holiday Cork-ament Wine Experience with Brys Estate Vineyard & Winery
DESCRIPTION:Holiday Cork-ament Wine Experience! Choose from 3 Brys wines\, enjoy a generous charcuterie cup\, and make 2 festive cork ornaments to take home. Plus\, 20% off Brys Estate featured wines! $45 | Dec. 14 | 12 2 PM | MBTB Auburn Hills.
X-ALT-DESC;FMTTYPE=text/html:<span style="color:rgb(0\, 0\, 0)"><strong>Holiday Cork-ament Wine Experience!</strong><span style="font-family:aptos\; font-size:12pt"> Choose from 3 Brys wines\, enjoy a generous charcuterie cup\, and make 2 festive cork ornaments to take home. Plus\, 20% off Brys Estate featured wines! $45 | Dec. 14 | 12&ndash\;2 PM | MBTB Auburn Hills.</span></span>
LOCATION:Michigan by the Bottle Auburn Hills 3384 Auburn Rd\, Auburn Hills\, MI 48326
UID:e.2802.15306
SEQUENCE:3
DTSTAMP:20260424T164053Z
URL:https://www.orionareachamber.com/events/details/holiday-cork-ament-wine-experience-with-brys-estate-vineyard-winery-15306
END:VEVENT

END:VCALENDAR
