BEGIN:VCALENDAR
VERSION:2.0
PRODID:-//ChamberMaster//Event Calendar 2.0//EN
METHOD:PUBLISH
X-PUBLISHED-TTL:P3D
REFRESH-INTERVAL:P3D
CALSCALE:GREGORIAN
BEGIN:VEVENT
DTSTART:20251118T170000Z
DTEND:20251118T170000Z
X-MICROSOFT-CDO-ALLDAYEVENT:FALSE
SUMMARY:LET'S TALK ABOUT DEMENTIA
DESCRIPTION:Learn where to start\, how to navigate the constantly\n\n\n\nchanging course of the disease\, and how to care with\n\n\n\ncompassion\, understanding\, and confidence. Together\,\n\n\n\nwe'll explore ways to strengthen family bonds\, support\n\n\n\nemotional well-being\, and stay informed with current\n\n\n\nknowledge and resources.\n\n  How does "brain change" affect my loved one?\n\n\n  How can we build stronger relationships?
X-ALT-DESC;FMTTYPE=text/html:<div>\n<div style="text-align:center">\n<p style="text-align:left"><span style="font-size:12px"><span style="font-family:tahoma"><span style="color:rgb(50\, 48\, 44)">&nbsp\;Learn where to start\, how to navigate the constantly</span></span></span></p>\n</div>\n\n<div style="text-align:center">\n<p style="text-align:left"><span style="font-size:12px"><span style="font-family:tahoma"><span style="color:rgb(50\, 48\, 44)">changing course of the disease\, and how to care with</span></span></span></p>\n</div>\n\n<div style="text-align:center">\n<p style="text-align:left"><span style="font-size:12px"><span style="font-family:tahoma"><span style="color:rgb(50\, 48\, 44)">compassion\, understanding\, and confidence. Together\,</span></span></span></p>\n</div>\n\n<div style="text-align:center">\n<p style="text-align:left"><span style="font-size:12px"><span style="font-family:tahoma"><span style="color:rgb(50\, 48\, 44)">we&#39\;ll explore ways to strengthen family bonds\, support</span></span></span></p>\n</div>\n\n<div style="text-align:center">\n<p style="text-align:left"><span style="font-size:12px"><span style="font-family:tahoma"><span style="color:rgb(50\, 48\, 44)">emotional well-being\, and stay informed with current</span></span></span></p>\n</div>\n\n<div style="text-align:center">\n<p style="text-align:left"><span style="font-size:12px"><span style="font-family:tahoma"><span style="color:rgb(50\, 48\, 44)">knowledge and resources.</span></span></span></p>\n\n<p style="text-align:left"><span style="color:rgb(23\, 22\, 21)\; font-family:tahoma\; font-size:12px">&bull\; How does &quot\;brain change&quot\; affect my loved one?</span></p>\n\n<div style="text-align:center">\n<p style="text-align:left"><span style="font-size:12px"><span style="font-family:tahoma"><span style="color:rgb(23\, 22\, 21)">&bull\; How can we build stronger relationships?</span></span></span></p>\n</div>\n</div>\n</div>\n
LOCATION:The Mt. Zion Community House 4005 S. Baldwin Rd. Lake Orion MI. RSVP 248-934-8443
UID:e.2802.15301
SEQUENCE:3
DTSTAMP:20260424T145555Z
URL:https://www.orionareachamber.com/events/details/let-s-talk-about-dementia-11-18-2025-15301
END:VEVENT

END:VCALENDAR
