BEGIN:VCALENDAR
VERSION:2.0
PRODID:-//ChamberMaster//Event Calendar 2.0//EN
METHOD:PUBLISH
X-PUBLISHED-TTL:P3D
REFRESH-INTERVAL:P3D
CALSCALE:GREGORIAN
BEGIN:VEVENT
DTSTART:20251118T223000Z
DTEND:20251119T003000Z
X-MICROSOFT-CDO-ALLDAYEVENT:FALSE
SUMMARY:Let's Talk About Dementia
DESCRIPTION:Join Deborah Seelhoff\,  Certified Dementia Practitioner for a special outreach event for families and loved ones supporting someone living with dementia. Learn\, connect\, and discover new ways to understand and care with compassion.\n\nRSVP 248-934-8443
X-ALT-DESC;FMTTYPE=text/html:Join Deborah Seelhoff\,&nbsp\; Certified Dementia Practitioner for a special outreach event for families and loved ones supporting someone living with dementia. Learn\, connect\, and discover new ways to understand and care with compassion.<br />\nRSVP 248-934-8443
LOCATION:The Mt. Zion Community House 4005 S. Baldwin Road Lake Orion\, MI
UID:e.2802.15293
SEQUENCE:3
DTSTAMP:20260424T142959Z
URL:https://www.orionareachamber.com/events/details/let-s-talk-about-dementia-15293
END:VEVENT

END:VCALENDAR
