BEGIN:VCALENDAR
VERSION:2.0
PRODID:-//ChamberMaster//Event Calendar 2.0//EN
METHOD:PUBLISH
X-PUBLISHED-TTL:P3D
REFRESH-INTERVAL:P3D
CALSCALE:GREGORIAN
BEGIN:VEVENT
DTSTART:20260528T220000Z
DTEND:20260529T003000Z
X-MICROSOFT-CDO-ALLDAYEVENT:FALSE
SUMMARY:Live Music Thursday: Nick James
DESCRIPTION:Join us for a laid-back Thursday night of live music featuring Nick James. Drawing from pop\, folk\, soul\, and light rock influences\, his music feels familiar and comforting while still fresh. Using live looping\, Nick builds songs organically in real time layering guitar\, percussion\, and harmonies in a way that's dynamic without ever overpowering the room.\n\n\n\nWhether you're settling in for a date night or casually hanging with friends\, Nick's approachable style and familiar tunes make for an easy\, feel-good evening.\n\n\n\n- Live-looping acoustic set\n\n- Wine available by the glass or flight\n\n- Small plates food menu available\n\n- Perfect for date night or casual hangs\n\n- Thursday\, May 28th\n\n- 6-8:30pm\n\n- Michigan by the Bottle   Lake Orion\n\n- Wine. Music. Easy vibes.\n\nNo tickets required   just come sip\, relax\, and enjoy the night.
X-ALT-DESC;FMTTYPE=text/html:Join us for a laid-back Thursday night of live music featuring Nick James. Drawing from pop\, folk\, soul\, and light rock influences\, his music feels familiar and comforting while still fresh. Using live looping\, Nick builds songs organically in real time&mdash\;layering guitar\, percussion\, and harmonies in a way that&rsquo\;s dynamic without ever overpowering the room.<br />\n<br />\nWhether you&rsquo\;re settling in for a date night or casually hanging with friends\, Nick&rsquo\;s approachable style and familiar tunes make for an easy\, feel-good evening.<br />\n<br />\n- Live-looping acoustic set<br />\n- Wine available by the glass or flight<br />\n- Small plates food menu available<br />\n- Perfect for date night or casual hangs<br />\n- Thursday\, May 28th<br />\n- 6-8:30pm<br />\n- Michigan by the Bottle &ndash\; Lake Orion<br />\n- Wine. Music. Easy vibes.<br />\nNo tickets required &mdash\; just come sip\, relax\, and enjoy the night.
LOCATION:- Michigan by the Bottle Lake Orion
UID:e.2802.15377
SEQUENCE:3
DTSTAMP:20260420T204544Z
URL:https://www.orionareachamber.com/events/details/live-music-thursday-nick-james-15377
END:VEVENT

END:VCALENDAR
