BEGIN:VCALENDAR
VERSION:2.0
PRODID:-//ChamberMaster//Event Calendar 2.0//EN
METHOD:PUBLISH
X-PUBLISHED-TTL:P3D
REFRESH-INTERVAL:P3D
CALSCALE:GREGORIAN
BEGIN:VEVENT
DTSTART:20260326T203000Z
DTEND:20260326T213000Z
X-MICROSOFT-CDO-ALLDAYEVENT:FALSE
SUMMARY:Ribbon Cutting at Orthopedic Specialists of Oakland County
DESCRIPTION:Ribbon Cutting for Orthopedic Specialists of Oakland County
X-ALT-DESC;FMTTYPE=text/html:Ribbon Cutting for Orthopedic Specialists of Oakland County&nbsp\;
LOCATION:Ribbon Cutting for Orthopedic Specialists of Oakland County 2316 S Lapeer Road\, Orion Township\, MI 48360
UID:e.2802.15363
SEQUENCE:3
DTSTAMP:20260424T084359Z
URL:https://www.orionareachamber.com/events/details/ribbon-cutting-at-orthopedic-specialists-of-oakland-county-15363
END:VEVENT

END:VCALENDAR
