BEGIN:VCALENDAR
VERSION:2.0
PRODID:-//ChamberMaster//Event Calendar 2.0//EN
METHOD:PUBLISH
X-PUBLISHED-TTL:P3D
REFRESH-INTERVAL:P3D
CALSCALE:GREGORIAN
BEGIN:VEVENT
DTSTART:20251120T213000Z
DTEND:20251120T223000Z
X-MICROSOFT-CDO-ALLDAYEVENT:FALSE
SUMMARY:Ribbon Cutting for Burger King
DESCRIPTION:Join us to celebrate the refurbishment of Lake Orion business\, Burger King\n\n\n\nAll Welcome!
X-ALT-DESC;FMTTYPE=text/html:Join us to celebrate the refurbishment of Lake Orion business\, Burger King<br />\n<br />\nAll Welcome!
LOCATION:1155 S. Lapeer Road Lake Orion\, MI 48360
UID:e.2802.15304
SEQUENCE:3
DTSTAMP:20260424T113252Z
URL:https://www.orionareachamber.com/events/details/ribbon-cutting-for-burger-king-15304
END:VEVENT

END:VCALENDAR
