BEGIN:VCALENDAR
VERSION:2.0
PRODID:-//ChamberMaster//Event Calendar 2.0//EN
METHOD:PUBLISH
X-PUBLISHED-TTL:P3D
REFRESH-INTERVAL:P3D
CALSCALE:GREGORIAN
BEGIN:VEVENT
DTSTART:20260416T203000Z
DTEND:20260416T213000Z
X-MICROSOFT-CDO-ALLDAYEVENT:FALSE
SUMMARY:Ribbon Cutting at The Hydration Well
DESCRIPTION:Ribbon Cutting for The Hydration Well \n\nPublic Welcome. Free!\n\nA locally owned wellness destination bringing elevated hydration\, recovery and oxygen to the Orion Community. Designed to support busy professionals\, athletes\, travelers\, and anyone seeking wellness.
X-ALT-DESC;FMTTYPE=text/html:Ribbon Cutting for The Hydration Well&nbsp\;<br />\nPublic Welcome. Free!<br />\nA locally owned wellness destination bringing elevated hydration\, recovery and oxygen to the Orion Community. Designed to support busy professionals\, athletes\, travelers\, and anyone seeking wellness.
LOCATION:4927 S Baldwin Rd Lake Orion\, MI 48359 248) 724-6392
UID:e.2802.15364
SEQUENCE:3
DTSTAMP:20260424T083756Z
URL:https://www.orionareachamber.com/events/details/ribbon-cutting-for-the-hydration-well-15364
END:VEVENT

END:VCALENDAR
