BEGIN:VCALENDAR
VERSION:2.0
PRODID:-//ChamberMaster//Event Calendar 2.0//EN
METHOD:PUBLISH
X-PUBLISHED-TTL:P3D
REFRESH-INTERVAL:P3D
CALSCALE:GREGORIAN
BEGIN:VEVENT
DTSTART:20251114T163000Z
DTEND:20251114T180000Z
X-MICROSOFT-CDO-ALLDAYEVENT:FALSE
SUMMARY:SOLD OUT Orion Women Professionals Networking Luncheon - November 2025
DESCRIPTION:SOLD OUT\n\n\n\nJoin fellow Women Professionals for some fall themed networking and lunch!\n\nChamber Members: $45\n\nNon-Chamber Members: $65\n\nSpots are limited. Registration is required.\n\nWe can not accept walk-ins.\n\nThank you to our Presenting Sponsor McLaren Oakland
X-ALT-DESC;FMTTYPE=text/html:<div class="xdj266r x11i5rnm xat24cr x1mh8g0r x1vvkbs" color:="" font-size:="" segoe="" style="margin: 0px\; overflow-wrap: break-word\; font-family: " ui=""><strong><span style="color:#FF0000\;">SOLD OUT</span></strong><br />\n<br />\nJoin fellow Women Professionals for some fall themed networking and lunch!</div>\n\n<div class="x11i5rnm xat24cr x1mh8g0r x1vvkbs xtlvy1s" color:="" font-size:="" segoe="" style="margin: 0.5em 0px 0px\; overflow-wrap: break-word\; font-family: " ui="">Chamber Members: $45<br />\nNon-Chamber Members: $65</div>\n\n<div class="x11i5rnm xat24cr x1mh8g0r x1vvkbs xtlvy1s" color:="" font-size:="" segoe="" style="margin: 0.5em 0px 0px\; overflow-wrap: break-word\; font-family: " ui="">Spots are limited.&nbsp\;Registration is required.<br />\nWe can not accept walk-ins.</div>\n\n<div class="x11i5rnm xat24cr x1mh8g0r x1vvkbs xtlvy1s" color:="" font-size:="" segoe="" style="margin: 0.5em 0px 0px\; overflow-wrap: break-word\; font-family: " ui="">Thank you to our Presenting Sponsor McLaren Oakland</div>\n
LOCATION:Boulder Pointe Golf Club & Banquet Center One Champions Circle Oxford\, MI 48371
UID:e.2802.15281
SEQUENCE:3
DTSTAMP:20260424T113736Z
URL:https://www.orionareachamber.com/events/details/sold-out-orion-women-professionals-networking-luncheon-november-2025-15281
END:VEVENT

END:VCALENDAR
