BEGIN:VCALENDAR
VERSION:2.0
PRODID:-//ChamberMaster//Event Calendar 2.0//EN
METHOD:PUBLISH
X-PUBLISHED-TTL:P3D
REFRESH-INTERVAL:P3D
CALSCALE:GREGORIAN
BEGIN:VEVENT
DTSTART:20260517T200000Z
DTEND:20260517T220000Z
X-MICROSOFT-CDO-ALLDAYEVENT:FALSE
SUMMARY:What wine are you… really?
DESCRIPTION:We're turning a tasting into a personality test (the fun kind).\n\nYou'll sip through 5 Rove wines\, answer a few quick questions\, and we'll match you with your wine alter ego then finish with a full glass of your match.\nLake Orion\n\nMay 17 | 4 6 PM | $35\n\nLimited seating
X-ALT-DESC;FMTTYPE=text/html:<p><span style="color:rgb(0\, 0\, 0)"><span style="font-family:times new roman\,serif\; font-size:12pt">We&rsquo\;re turning a tasting into a personality test (the fun kind).</span><br />\n<span style="font-family:times new roman\,serif\; font-size:12pt">You&rsquo\;ll sip through 5 Rove wines\, answer a few quick questions\, and we&rsquo\;ll match you with your wine alter ego&mdash\;then finish with a full glass of your match.</span></span></p>\n<span style="color:rgb(0\, 0\, 0)"><span style="font-family:times new roman\,serif\; font-size:12pt">Lake Orion</span><br />\n<span style="font-family:times new roman\,serif\; font-size:12pt">May 17 | 4&ndash\;6 PM | $35</span><br />\n<strong>Limited seating</strong></span>
LOCATION:Michigan by the Bottle Lake Orion
UID:e.2802.15381
SEQUENCE:3
DTSTAMP:20260420T203331Z
URL:https://www.orionareachamber.com/events/details/what-wine-are-you-really-15381
END:VEVENT

END:VCALENDAR
